BEGIN:VCALENDAR
VERSION:2.0
PRODID:-//wp-events-plugin.com//7.2.3.1//EN
TZID:Europe/Amsterdam
X-WR-TIMEZONE:Europe/Amsterdam
BEGIN:VEVENT
UID:1572@3-torens.nl
DTSTART:20250724T170000Z
DTEND:20250724T200000Z
DTSTAMP:20250528T184040Z
URL:https://www.3-torens.nl/events/terrasschaak-8/
SUMMARY:Terrasschaak
DESCRIPTION:Inloop vanaf 19:00. Aanmelden sluit om19:20 De eerste ronde par
 tijen start om 19:30
ATTACH;FMTTYPE=image/jpeg:https://www.3-torens.nl/wp-content/uploads/2023/
 09/Cafeschaak.png
CATEGORIES:Alle,Hot Spots,Jeugd,Volwassenen
LOCATION:Café t Centrum\, Kerkstraat 24\, Berkel en Rodenrijs\, Nederland\
 , 2651RP\, Nederland
GEO:51.9933984;4.47754580000003
X-APPLE-STRUCTURED-LOCATION;VALUE=URI;X-ADDRESS=Kerkstraat 24\, Berkel en R
 odenrijs\, Nederland\, 2651RP\, Nederland;X-APPLE-RADIUS=100;X-TITLE=Café
  t Centrum:geo:51.9933984,4.47754580000003
END:VEVENT
END:VCALENDAR