BEGIN:VCALENDAR
VERSION:2.0
PRODID:-//wp-events-plugin.com//7.2.3.1//EN
TZID:Europe/Amsterdam
X-WR-TIMEZONE:Europe/Amsterdam
BEGIN:VEVENT
UID:1661@3-torens.nl
DTSTART:20260908T164500Z
DTEND:20260908T180000Z
DTSTAMP:20260419T074857Z
URL:https://www.3-torens.nl/events/start-seizoen-2026-2027-jeugdschaken-2/
SUMMARY:Start seizoen 2026-2027 jeugdschaken
DESCRIPTION:
CATEGORIES:Alle,Jeugd
LOCATION:Gebouw Wijnstokgemeente\, Rodenrijseweg 295\, Berkel en Rodenrijs\
 , Zuid Holland\, 2651 BS\, Nederland
GEO:51.9806538;4.466508999999974
X-APPLE-STRUCTURED-LOCATION;VALUE=URI;X-ADDRESS=Rodenrijseweg 295\, Berkel 
 en Rodenrijs\, Zuid Holland\, 2651 BS\, Nederland;X-APPLE-RADIUS=100;X-TIT
 LE=Gebouw Wijnstokgemeente:geo:51.9806538,4.466508999999974
END:VEVENT
END:VCALENDAR