BEGIN:VCALENDAR
VERSION:2.0
PRODID:-//wp-events-plugin.com//7.2.3.1//EN
TZID:Europe/Amsterdam
X-WR-TIMEZONE:Europe/Amsterdam
BEGIN:VEVENT
UID:1184@3-torens.nl
DTSTART:20230829T180000Z
DTEND:20230829T213000Z
DTSTAMP:20230622T145611Z
URL:https://www.3-torens.nl/events/start-nieuwe-seizoen-senioren/
SUMMARY:Start nieuwe seizoen senioren
DESCRIPTION:
CATEGORIES:Hot Spots
END:VEVENT
END:VCALENDAR