BEGIN:VCALENDAR
VERSION:2.0
PRODID:-//wp-events-plugin.com//7.2.3.1//EN
TZID:Europe/Amsterdam
X-WR-TIMEZONE:Europe/Amsterdam
BEGIN:VEVENT
UID:1585@3-torens.nl
DTSTART:20250623T164500Z
DTEND:20250623T180000Z
DTSTAMP:20250527T220018Z
URL:https://www.3-torens.nl/events/slotavond-jeugdschaak-5/
SUMMARY:Slotavond Jeugdschaak
DESCRIPTION:
ATTACH;FMTTYPE=image/jpeg:https://www.3-torens.nl/wp-content/uploads/2025/
 04/20250404-_DSC0012.jpg
CATEGORIES:Alle,Hot Spots,Jeugd
LOCATION:Gebouw Wijnstokgemeente\, Rodenrijseweg 295\, Berkel en Rodenrijs\
 , Zuid Holland\, 2651 BS\, Nederland
GEO:51.9806538;4.466508999999974
X-APPLE-STRUCTURED-LOCATION;VALUE=URI;X-ADDRESS=Rodenrijseweg 295\, Berkel 
 en Rodenrijs\, Zuid Holland\, 2651 BS\, Nederland;X-APPLE-RADIUS=100;X-TIT
 LE=Gebouw Wijnstokgemeente:geo:51.9806538,4.466508999999974
END:VEVENT
END:VCALENDAR