BEGIN:VCALENDAR
VERSION:2.0
PRODID:-//wp-events-plugin.com//7.2.3.1//EN
TZID:Europe/Amsterdam
X-WR-TIMEZONE:Europe/Amsterdam
BEGIN:VEVENT
UID:1467@3-torens.nl
DTSTART:20240213T165500Z
DTEND:20240213T175500Z
DTSTAMP:20240204T111656Z
URL:https://www.3-torens.nl/events/schaak-clinic-met-dylan-4/
SUMMARY:Schaak Clinic met Dylan
DESCRIPTION:
ATTACH;FMTTYPE=image/jpeg:https://www.3-torens.nl/wp-content/uploads/2023/
 10/Chess-Become-a-Master.png
CATEGORIES:Alle,Hot Spots,Schaak Clinic
END:VEVENT
END:VCALENDAR