BEGIN:VCALENDAR
VERSION:2.0
PRODID:-//wp-events-plugin.com//7.2.3.1//EN
TZID:Europe/Amsterdam
X-WR-TIMEZONE:Europe/Amsterdam
BEGIN:VEVENT
UID:1197@3-torens.nl
DTSTART:20240104T220000Z
DTEND:20240105T220000Z
DTSTAMP:20230923T113533Z
URL:https://www.3-torens.nl/events/rsb-pjk-abc/
SUMMARY:RSB PJK ABC
DESCRIPTION:Klik hier voor alle info
CATEGORIES:Alle,Hot Spots,Jeugd,Jeugdtoernooien
END:VEVENT
END:VCALENDAR