BEGIN:VCALENDAR
VERSION:2.0
PRODID:-//wp-events-plugin.com//7.2.3.1//EN
TZID:Europe/Amsterdam
X-WR-TIMEZONE:Europe/Amsterdam
BEGIN:VEVENT
UID:1193@3-torens.nl
DTSTART:20231007T104500Z
DTEND:20231007T150000Z
DTSTAMP:20230923T113524Z
URL:https://www.3-torens.nl/events/rsb-gp-open-jeugdkampioenschap-van-de-p
 ionier-2023-ojkp/
SUMMARY:RSB GP - Open Jeugdkampioen­schap van de Pionier 2023 (OJKP)
DESCRIPTION:Klik hier voor all info
ATTACH;FMTTYPE=image/jpeg:https://www.3-torens.nl/wp-content/uploads/2023/
 09/Grand-Prix.png
CATEGORIES:Alle,Hot Spots,Jeugd,Jeugdtoernooien,RSB GP
END:VEVENT
END:VCALENDAR