BEGIN:VCALENDAR
VERSION:2.0
PRODID:-//wp-events-plugin.com//7.2.3.1//EN
TZID:Europe/Amsterdam
X-WR-TIMEZONE:Europe/Amsterdam
BEGIN:VEVENT
UID:1626@3-torens.nl
DTSTART:20260519T180000Z
DTEND:20260519T210000Z
DTSTAMP:20260313T081322Z
URL:https://www.3-torens.nl/events/rsb-de-willige-dame-v2-3-torens-v2/
SUMMARY:RSB | De Willige Dame V2 - 3-Torens V2
DESCRIPTION:Klasse V2C
ATTACH;FMTTYPE=image/jpeg:https://www.3-torens.nl/wp-content/uploads/2023/
 09/V2.png
CATEGORIES:Alle,Hot Spots,Jeugd,KNSB 1,Volwassenen
END:VEVENT
END:VCALENDAR