BEGIN:VCALENDAR
VERSION:2.0
PRODID:-//wp-events-plugin.com//7.2.3.1//EN
TZID:Europe/Amsterdam
X-WR-TIMEZONE:Europe/Amsterdam
BEGIN:VEVENT
UID:1621@3-torens.nl
DTSTART:20260519T180000Z
DTEND:20260519T215900Z
DTSTAMP:20260313T081241Z
URL:https://www.3-torens.nl/events/rsb-3-torens-v1-hzp-schiedam-v1/
SUMMARY:RSB | 3-Torens V1 - HZP Schiedam V1
DESCRIPTION:Klasse V2B
ATTACH;FMTTYPE=image/jpeg:https://www.3-torens.nl/wp-content/uploads/2023/
 09/V1.png
CATEGORIES:Alle,Hot Spots,Jeugd,Volwassenen
LOCATION:Gebouw Wijnstokgemeente\, Rodenrijseweg 295\, Berkel en Rodenrijs\
 , Zuid Holland\, 2651 BS\, Nederland
GEO:51.9806538;4.466508999999974
X-APPLE-STRUCTURED-LOCATION;VALUE=URI;X-ADDRESS=Rodenrijseweg 295\, Berkel 
 en Rodenrijs\, Zuid Holland\, 2651 BS\, Nederland;X-APPLE-RADIUS=100;X-TIT
 LE=Gebouw Wijnstokgemeente:geo:51.9806538,4.466508999999974
END:VEVENT
END:VCALENDAR