BEGIN:VCALENDAR
VERSION:2.0
PRODID:-//wp-events-plugin.com//7.2.3.1//EN
TZID:Europe/Amsterdam
X-WR-TIMEZONE:Europe/Amsterdam
BEGIN:VEVENT
UID:1645@3-torens.nl
DTSTART:20260102T080000Z
DTEND:20260103T140000Z
DTSTAMP:20251130T165943Z
URL:https://www.3-torens.nl/events/pjk-abc-2026-tevens-nk-kwalificatie-toe
 rnooi/
SUMMARY:PJK ABC 2026\, tevens NK kwalificatie toernooi
DESCRIPTION:Het Persoonlijk Jeugdkampioenschap 2026 van de Rotterdamse Scha
 akbond (RSB) voor de leeftijdscategorieën A\, B en C\, afgekort PJK ABC 2
 026.\n\nA: geboren in of na 2008 (​t/m 18 jaar)\nB: geboren in of na 201
 0 (t/m 16 jaar) \nC: geboren in of na 2012 (t/m 14 jaar)\n\nHet PJK ABC i
 s tevens het tweede van vier landelijke NK-kwalificatietoernooien. Landel
 ijk wil zeggen dat hieraan ook spelers van buiten de RSB mogen deelnemen.\
 n\nSpeellocatie: De Goudse Waarden\, Kanaalstraat 31 in Gouda.\n\nVoor mee
 r informatie: http://r-s-b.nl/events/pjk-abc-2026-tevens-nk-kwalificatie-t
 oernooi/
CATEGORIES:Hot Spots,Jeugd,Jeugdtoernooien
LOCATION:C.S.G. De Goudse Waarden\, Kanaalstraat 31\, Gouda\, 2801 SH\, Ned
 erland
X-APPLE-STRUCTURED-LOCATION;VALUE=URI;X-ADDRESS=Kanaalstraat 31\, Gouda\, 2
 801 SH\, Nederland;X-APPLE-RADIUS=100;X-TITLE=C.S.G. De Goudse Waarden:geo
 :0,0
END:VEVENT
END:VCALENDAR