BEGIN:VCALENDAR
VERSION:2.0
PRODID:-//wp-events-plugin.com//7.2.3.1//EN
TZID:Europe/Amsterdam
X-WR-TIMEZONE:Europe/Amsterdam
BEGIN:VEVENT
UID:1458@3-torens.nl
DTSTART:20231020T180000Z
DTEND:20231020T213000Z
DTSTAMP:20231004T075619Z
URL:https://www.3-torens.nl/events/overschie-3-torens-rsb-beker/
SUMMARY:Overschie - 3-Torens - RSB Beker
DESCRIPTION:
ATTACH;FMTTYPE=image/jpeg:https://www.3-torens.nl/wp-content/uploads/2023/
 09/RSB-Beker.png
CATEGORIES:Alle,Hot Spots,Volwassenen
END:VEVENT
END:VCALENDAR