BEGIN:VCALENDAR
VERSION:2.0
PRODID:-//wp-events-plugin.com//7.2.3.1//EN
TZID:Europe/Amsterdam
X-WR-TIMEZONE:Europe/Amsterdam
BEGIN:VEVENT
UID:1528@3-torens.nl
DTSTART:20241125T180000Z
DTEND:20241125T214500Z
DTSTAMP:20240917T231120Z
URL:https://www.3-torens.nl/events/hzp-schiedam-v1-3-torens-v1/
SUMMARY:HZP Schiedam V1 - 3-Torens V1
DESCRIPTION:
ATTACH;FMTTYPE=image/jpeg:https://www.3-torens.nl/wp-content/uploads/2023/
 09/V1-1.png
CATEGORIES:3TV1,Alle,Hot Spots
END:VEVENT
END:VCALENDAR