BEGIN:VCALENDAR
VERSION:2.0
PRODID:-//wp-events-plugin.com//7.2.3.1//EN
TZID:Europe/Amsterdam
X-WR-TIMEZONE:Europe/Amsterdam
BEGIN:VEVENT
UID:1532@3-torens.nl
DTSTART:20250108T220000Z
DTEND:20250108T220000Z
DTSTAMP:20240917T231208Z
URL:https://www.3-torens.nl/events/hoeksche-waard-v1-3-torens-v2/
SUMMARY:Hoeksche Waard V1 - 3-Torens V2
DESCRIPTION:
ATTACH;FMTTYPE=image/jpeg:https://www.3-torens.nl/wp-content/uploads/2023/
 09/V2-1.png
CATEGORIES:3TV2,Alle,Hot Spots
END:VEVENT
END:VCALENDAR