BEGIN:VCALENDAR
VERSION:2.0
PRODID:-//wp-events-plugin.com//7.2.3.1//EN
TZID:Europe/Amsterdam
X-WR-TIMEZONE:Europe/Amsterdam
BEGIN:VEVENT
UID:1190@3-torens.nl
DTSTART:20240531T164500Z
DTEND:20240531T184500Z
DTSTAMP:20240209T113508Z
URL:https://www.3-torens.nl/events/groene-hart-jeugdcup-speelweek-6/
SUMMARY:Slotavond Groene Hart Jeugdcup
DESCRIPTION:
ATTACH;FMTTYPE=image/jpeg:https://www.3-torens.nl/wp-content/uploads/2023/
 09/Groene-Hart.png
CATEGORIES:Alle,De Ron de Jong Groene Hart Cup,Hot
 Spots,Jeugd,Jeugdtoernooien
END:VEVENT
END:VCALENDAR