BEGIN:VCALENDAR
VERSION:2.0
PRODID:-//wp-events-plugin.com//7.2.3.1//EN
TZID:Europe/Amsterdam
X-WR-TIMEZONE:Europe/Amsterdam
BEGIN:VEVENT
UID:1396@3-torens.nl
DTSTART:20240517T180000Z
DTEND:20240517T213000Z
DTSTAMP:20230921T131100Z
URL:https://www.3-torens.nl/events/charlois-europoort-v2-3-torens-v2/
SUMMARY:Charlois Europoort V2 - 3-Torens V2
DESCRIPTION:
ATTACH;FMTTYPE=image/jpeg:https://www.3-torens.nl/wp-content/uploads/2023/
 09/V2.png
CATEGORIES:3TV2,Alle,Hot Spots
END:VEVENT
END:VCALENDAR