BEGIN:VCALENDAR
VERSION:2.0
PRODID:-//wp-events-plugin.com//7.2.3.1//EN
TZID:Europe/Amsterdam
X-WR-TIMEZONE:Europe/Amsterdam
BEGIN:VEVENT
UID:1570@3-torens.nl
DTSTART:20250624T060000Z
DTEND:20250624T210000Z
DTSTAMP:20250527T220033Z
URL:https://www.3-torens.nl/events/cafeschaak-slotavond-volwassenen/
SUMMARY:Cafeschaak - Slotavond Volwassenen
DESCRIPTION:
ATTACH;FMTTYPE=image/jpeg:https://www.3-torens.nl/wp-content/uploads/2023/
 09/Cafeschaak.png
CATEGORIES:Alle,Cafeschaak,Hot Spots,Volwassenen
LOCATION:Café t Centrum\, Kerkstraat 24\, Berkel en Rodenrijs\, Nederland\
 , 2651RP\, Nederland
GEO:51.9933984;4.47754580000003
X-APPLE-STRUCTURED-LOCATION;VALUE=URI;X-ADDRESS=Kerkstraat 24\, Berkel en R
 odenrijs\, Nederland\, 2651RP\, Nederland;X-APPLE-RADIUS=100;X-TITLE=Café
  t Centrum:geo:51.9933984,4.47754580000003
END:VEVENT
END:VCALENDAR