BEGIN:VCALENDAR
VERSION:2.0
PRODID:-//wp-events-plugin.com//7.2.3.1//EN
TZID:Europe/Amsterdam
X-WR-TIMEZONE:Europe/Amsterdam
BEGIN:VEVENT
UID:1643@3-torens.nl
DTSTART:20251209T180000Z
DTEND:20251209T210000Z
DTSTAMP:20260418T145756Z
URL:https://www.3-torens.nl/events/cafeschaak-op-9-december/
SUMMARY:Caféschaak op 9 december
DESCRIPTION:Op dinsdag 9 december gaan we weer gezellig caféschaken in caf
 é ’t Centrum in Berkel en Rodenrijs.\n\nDe avond start om 20:00 uur\, p
 artijen om 20.30 uur\, het zijn rapid partijen\, met een denktijd van:\n\n
 20 minuten per persoon per partij\, +5 seconden toegevoegde tijd per set.
ATTACH;FMTTYPE=image/jpeg:https://www.3-torens.nl/wp-content/uploads/2023/
 09/Cafeschaak.png
CATEGORIES:Alle,Cafeschaak,Hot Spots
LOCATION:Café t Centrum\, Kerkstraat 24\, Berkel en Rodenrijs\, Nederland\
 , 2651RP\, Nederland
GEO:51.9933984;4.47754580000003
X-APPLE-STRUCTURED-LOCATION;VALUE=URI;X-ADDRESS=Kerkstraat 24\, Berkel en R
 odenrijs\, Nederland\, 2651RP\, Nederland;X-APPLE-RADIUS=100;X-TITLE=Café
  t Centrum:geo:51.9933984,4.47754580000003
END:VEVENT
END:VCALENDAR