BEGIN:VCALENDAR
VERSION:2.0
PRODID:-//wp-events-plugin.com//7.2.3.1//EN
TZID:Europe/Amsterdam
X-WR-TIMEZONE:Europe/Amsterdam
BEGIN:VEVENT
UID:1644@3-torens.nl
DTSTART:20251220T100000Z
DTEND:20251220T153000Z
DTSTAMP:20251130T165118Z
URL:https://www.3-torens.nl/events/44e-klim-op-jeugdschaaktoernooi/
SUMMARY:44e Klim-Op-jeugdschaaktoernooi
DESCRIPTION:Leeftijdscategorieën (3): t/m 8 jaar\, t/m 10 jaar en t/m 12 j
 aar. Leeftijd op de speeldag is bepalend.\nSysteem: Zwitsers.\n\nIn alle g
 roepen worden 7 ronden gespeeld en de bedenktijd op de klok is 15 minuten 
 met 5 seconden increment.\nEr wordt gespeeld volgens het rapidschaakreglem
 ent.\n\nVoor meer informatie zie http://r-s-b.nl/events/44e-klim-op-jeugd
 schaaktoernooi/
ATTACH;FMTTYPE=image/jpeg:https://www.3-torens.nl/wp-content/uploads/2025/
 04/istockphoto-jeugdschaak.jpeg
CATEGORIES:Hot Spots,Jeugd,Jeugdtoernooien
LOCATION:OBS Klim Op\, Bongerd 8\, Capelle a/d IJssel\, 2906 VK\, Nederland
GEO:51.9337536;4.5664087999999765
X-APPLE-STRUCTURED-LOCATION;VALUE=URI;X-ADDRESS=Bongerd 8\, Capelle a/d IJs
 sel\, 2906 VK\, Nederland;X-APPLE-RADIUS=100;X-TITLE=OBS Klim Op:geo:51.93
 37536,4.5664087999999765
END:VEVENT
END:VCALENDAR