BEGIN:VCALENDAR
VERSION:2.0
PRODID:-//wp-events-plugin.com//7.2.3.1//EN
TZID:Europe/Amsterdam
X-WR-TIMEZONE:Europe/Amsterdam
BEGIN:VEVENT
UID:1489@3-torens.nl
DTSTART:20241109T100000Z
DTEND:20241109T160000Z
DTSTAMP:20240824T124610Z
URL:https://www.3-torens.nl/events/3-torens-1-messemaker-1847-3/
SUMMARY:Krimpen ad IJssel 4 - 3-Torens 1
DESCRIPTION:KNSB Competitie\n\n3-Torens 1 speelt in klasse 6K
ATTACH;FMTTYPE=image/jpeg:https://www.3-torens.nl/wp-content/uploads/2024/
 07/KNSB-Pictogram.png
CATEGORIES:Alle,Hot Spots,Jeugd,KNSB 1,Volwassenen
END:VEVENT
END:VCALENDAR